Package: rcellminer Version: 2.14.0 Command: chmod a+r rcellminer -R && C:\Users\biocbuild\bbs-3.13-bioc\R\bin\R.exe CMD build --keep-empty-dirs --no-resave-data rcellminer StartedAt: 2021-10-14 17:26:43 -0400 (Thu, 14 Oct 2021) EndedAt: 2021-10-14 17:29:26 -0400 (Thu, 14 Oct 2021) EllapsedTime: 163.8 seconds RetCode: 0 Status: OK PackageFile: rcellminer_2.14.0.tar.gz PackageFileSize: 685.9 KiB