Package: reconsi Version: 1.4.0 Command: /Library/Frameworks/R.framework/Versions/Current/Resources/bin/R CMD check --install=check:reconsi.install-out.txt --library=/Library/Frameworks/R.framework/Versions/Current/Resources/library --no-vignettes --timings reconsi_1.4.0.tar.gz StartedAt: 2021-10-14 22:58:27 -0400 (Thu, 14 Oct 2021) EndedAt: 2021-10-14 23:02:41 -0400 (Thu, 14 Oct 2021) EllapsedTime: 254.3 seconds RetCode: 0 Status: OK CheckDir: reconsi.Rcheck Warnings: 0