Package: reconsi Version: 1.4.0 Command: C:\cygwin\bin\curl.exe -O http://155.52.207.165/BBS/3.13/bioc/src/contrib/reconsi_1.4.0.tar.gz && rm -rf reconsi.buildbin-libdir && mkdir reconsi.buildbin-libdir && C:\Users\biocbuild\bbs-3.13-bioc\R\bin\R.exe CMD INSTALL --merge-multiarch --build --library=reconsi.buildbin-libdir reconsi_1.4.0.tar.gz && C:\Users\biocbuild\bbs-3.13-bioc\R\bin\R.exe CMD INSTALL reconsi_1.4.0.zip && rm reconsi_1.4.0.tar.gz reconsi_1.4.0.zip StartedAt: 2021-10-14 08:29:39 -0400 (Thu, 14 Oct 2021) EndedAt: 2021-10-14 08:30:25 -0400 (Thu, 14 Oct 2021) EllapsedTime: 46.2 seconds RetCode: 0 Status: OK