Package: recount Version: 1.18.1 Command: rm -rf recount.buildbin-libdir && mkdir recount.buildbin-libdir && /Users/biocbuild/BBS/utils/build-universal.sh recount_1.18.1.tar.gz /Library/Frameworks/R.framework/Versions/Current/Resources/bin/R recount.buildbin-libdir StartedAt: 2021-10-15 03:41:30 -0400 (Fri, 15 Oct 2021) EndedAt: 2021-10-15 03:43:46 -0400 (Fri, 15 Oct 2021) EllapsedTime: 136.2 seconds RetCode: 0 Status: OK PackageFile: recount_1.18.1.tgz PackageFileSize: 7.334 MiB