Package: recount Version: 1.18.1 Command: /Library/Frameworks/R.framework/Versions/Current/Resources/bin/R CMD build --keep-empty-dirs --no-resave-data recount StartedAt: 2021-10-14 14:17:52 -0400 (Thu, 14 Oct 2021) EndedAt: 2021-10-14 14:32:14 -0400 (Thu, 14 Oct 2021) EllapsedTime: 861.6 seconds RetCode: 0 Status: OK PackageFile: recount_1.18.1.tar.gz PackageFileSize: 6.967 MiB