Package: recount Version: 1.18.1 Command: /Library/Frameworks/R.framework/Versions/Current/Resources/bin/R CMD check --install=check:recount.install-out.txt --library=/Library/Frameworks/R.framework/Versions/Current/Resources/library --no-vignettes --timings recount_1.18.1.tar.gz StartedAt: 2021-10-14 22:58:32 -0400 (Thu, 14 Oct 2021) EndedAt: 2021-10-14 23:13:25 -0400 (Thu, 14 Oct 2021) EllapsedTime: 892.8 seconds RetCode: 1 Status: ERROR CheckDir: recount.Rcheck Warnings: NA