Package: recount Version: 1.18.1 Command: /home/biocbuild/bbs-3.13-bioc/R/bin/R CMD build --keep-empty-dirs --no-resave-data recount StartedAt: 2021-10-14 08:10:21 -0400 (Thu, 14 Oct 2021) EndedAt: 2021-10-14 08:20:19 -0400 (Thu, 14 Oct 2021) EllapsedTime: 598.3 seconds RetCode: 0 Status: OK PackageFile: recount_1.18.1.tar.gz PackageFileSize: 6.977 MiB