Package: recount Version: 1.18.1 Command: C:\Users\biocbuild\bbs-3.13-bioc\R\bin\R.exe CMD check --force-multiarch --install=check:recount.install-out.txt --library=C:\Users\biocbuild\bbs-3.13-bioc\R\library --no-vignettes --timings recount_1.18.1.tar.gz StartedAt: 2021-10-15 04:16:45 -0400 (Fri, 15 Oct 2021) EndedAt: 2021-10-15 04:30:31 -0400 (Fri, 15 Oct 2021) EllapsedTime: 826.4 seconds RetCode: 1 Status: ERROR CheckDir: recount.Rcheck Warnings: NA