Package: recount Version: 1.18.1 Command: C:\cygwin\bin\curl.exe -O http://155.52.207.165/BBS/3.13/bioc/src/contrib/recount_1.18.1.tar.gz && rm -rf recount.buildbin-libdir && mkdir recount.buildbin-libdir && C:\Users\biocbuild\bbs-3.13-bioc\R\bin\R.exe CMD INSTALL --merge-multiarch --build --library=recount.buildbin-libdir recount_1.18.1.tar.gz && C:\Users\biocbuild\bbs-3.13-bioc\R\bin\R.exe CMD INSTALL recount_1.18.1.zip && rm recount_1.18.1.tar.gz recount_1.18.1.zip StartedAt: 2021-10-14 10:31:34 -0400 (Thu, 14 Oct 2021) EndedAt: 2021-10-14 10:33:31 -0400 (Thu, 14 Oct 2021) EllapsedTime: 117.3 seconds RetCode: 0 Status: OK