Package: recount3 Version: 1.2.6 Command: /Library/Frameworks/R.framework/Versions/Current/Resources/bin/R CMD check --install=check:recount3.install-out.txt --library=/Library/Frameworks/R.framework/Versions/Current/Resources/library --no-vignettes --timings recount3_1.2.6.tar.gz StartedAt: 2021-10-14 22:58:37 -0400 (Thu, 14 Oct 2021) EndedAt: 2021-10-14 23:10:50 -0400 (Thu, 14 Oct 2021) EllapsedTime: 732.8 seconds RetCode: 0 Status: OK CheckDir: recount3.Rcheck Warnings: 0