Package: recount3 Version: 1.2.6 Command: chmod a+r recount3 -R && C:\Users\biocbuild\bbs-3.13-bioc\R\bin\R.exe CMD build --keep-empty-dirs --no-resave-data recount3 StartedAt: 2021-10-14 17:30:25 -0400 (Thu, 14 Oct 2021) EndedAt: 2021-10-14 17:33:44 -0400 (Thu, 14 Oct 2021) EllapsedTime: 199.8 seconds RetCode: 0 Status: OK PackageFile: recount3_1.2.6.tar.gz PackageFileSize: 538.6 KiB