Package: regutools Version: 1.4.0 Command: rm -rf regutools.buildbin-libdir && mkdir regutools.buildbin-libdir && C:\Users\biocbuild\bbs-3.13-bioc\R\bin\R.exe CMD INSTALL --merge-multiarch --build --library=regutools.buildbin-libdir regutools_1.4.0.tar.gz StartedAt: 2021-10-15 11:20:22 -0400 (Fri, 15 Oct 2021) EndedAt: 2021-10-15 11:21:56 -0400 (Fri, 15 Oct 2021) EllapsedTime: 93.6 seconds RetCode: 0 Status: OK PackageFile: regutools_1.4.0.zip PackageFileSize: 917 KiB