Package: regutools Version: 1.4.0 Command: chmod a+r regutools -R && C:\Users\biocbuild\bbs-3.13-bioc\R\bin\R.exe CMD build --keep-empty-dirs --no-resave-data regutools StartedAt: 2021-10-14 17:31:54 -0400 (Thu, 14 Oct 2021) EndedAt: 2021-10-14 17:34:02 -0400 (Thu, 14 Oct 2021) EllapsedTime: 127.9 seconds RetCode: 0 Status: OK PackageFile: regutools_1.4.0.tar.gz PackageFileSize: 358.2 KiB