Package: rgsepd Version: 1.24.0 Command: rm -rf rgsepd.buildbin-libdir && mkdir rgsepd.buildbin-libdir && /Users/biocbuild/BBS/utils/build-universal.sh rgsepd_1.24.0.tar.gz /Library/Frameworks/R.framework/Versions/Current/Resources/bin/R rgsepd.buildbin-libdir StartedAt: 2021-10-15 03:44:03 -0400 (Fri, 15 Oct 2021) EndedAt: 2021-10-15 03:45:13 -0400 (Fri, 15 Oct 2021) EllapsedTime: 69.9 seconds RetCode: 0 Status: OK PackageFile: rgsepd_1.24.0.tgz PackageFileSize: 1.308 MiB