Package: rgsepd Version: 1.24.0 Command: /Library/Frameworks/R.framework/Versions/Current/Resources/bin/R CMD build --keep-empty-dirs --no-resave-data rgsepd StartedAt: 2021-10-14 14:21:48 -0400 (Thu, 14 Oct 2021) EndedAt: 2021-10-14 14:25:24 -0400 (Thu, 14 Oct 2021) EllapsedTime: 216.2 seconds RetCode: 0 Status: OK PackageFile: rgsepd_1.24.0.tar.gz PackageFileSize: 1.193 MiB