Package: rgsepd Version: 1.24.0 Command: /Library/Frameworks/R.framework/Versions/Current/Resources/bin/R CMD check --install=check:rgsepd.install-out.txt --library=/Library/Frameworks/R.framework/Versions/Current/Resources/library --no-vignettes --timings rgsepd_1.24.0.tar.gz StartedAt: 2021-10-14 23:10:10 -0400 (Thu, 14 Oct 2021) EndedAt: 2021-10-14 23:19:46 -0400 (Thu, 14 Oct 2021) EllapsedTime: 576.4 seconds RetCode: 0 Status: OK CheckDir: rgsepd.Rcheck Warnings: 0