Package: rgsepd Version: 1.24.0 Command: /home/biocbuild/bbs-3.13-bioc/R/bin/R CMD build --keep-empty-dirs --no-resave-data rgsepd StartedAt: 2021-10-14 08:12:10 -0400 (Thu, 14 Oct 2021) EndedAt: 2021-10-14 08:14:56 -0400 (Thu, 14 Oct 2021) EllapsedTime: 166.2 seconds RetCode: 0 Status: OK PackageFile: rgsepd_1.24.0.tar.gz PackageFileSize: 1.192 MiB