Package: rgsepd Version: 1.24.0 Command: /home/biocbuild/bbs-3.13-bioc/R/bin/R CMD check --install=check:rgsepd.install-out.txt --library=/home/biocbuild/bbs-3.13-bioc/R/library --no-vignettes --timings rgsepd_1.24.0.tar.gz StartedAt: 2021-10-14 11:19:17 -0400 (Thu, 14 Oct 2021) EndedAt: 2021-10-14 11:26:40 -0400 (Thu, 14 Oct 2021) EllapsedTime: 442.9 seconds RetCode: 0 Status: OK CheckDir: rgsepd.Rcheck Warnings: 0