Package: rgsepd Version: 1.24.0 Command: chmod a+r rgsepd -R && C:\Users\biocbuild\bbs-3.13-bioc\R\bin\R.exe CMD build --keep-empty-dirs --no-resave-data rgsepd StartedAt: 2021-10-14 17:35:14 -0400 (Thu, 14 Oct 2021) EndedAt: 2021-10-14 17:38:17 -0400 (Thu, 14 Oct 2021) EllapsedTime: 183.6 seconds RetCode: 0 Status: OK PackageFile: rgsepd_1.24.0.tar.gz PackageFileSize: 1.172 MiB