git_url: https://git.bioconductor.org/packages/rhdf5 git_branch: RELEASE_3_13 git_last_commit: 4dc527f git_last_commit_date: 2021-05-19 11:51:13 -0400 (Wed, 19 May 2021) Package: rhdf5 Version: 2.36.0 Maintainer: Mike Smith MaintainerEmail: mike.smith at embl.de