Package: rhdf5 Version: 2.36.0 Command: /Library/Frameworks/R.framework/Versions/Current/Resources/bin/R CMD build --keep-empty-dirs --no-resave-data rhdf5 StartedAt: 2021-10-14 14:21:55 -0400 (Thu, 14 Oct 2021) EndedAt: 2021-10-14 14:30:58 -0400 (Thu, 14 Oct 2021) EllapsedTime: 543.4 seconds RetCode: 0 Status: OK PackageFile: rhdf5_2.36.0.tar.gz PackageFileSize: 1.038 MiB