Package: rhdf5 Version: 2.36.0 Command: /Library/Frameworks/R.framework/Versions/Current/Resources/bin/R CMD check --install=check:rhdf5.install-out.txt --library=/Library/Frameworks/R.framework/Versions/Current/Resources/library --no-vignettes --timings rhdf5_2.36.0.tar.gz StartedAt: 2021-10-14 23:10:39 -0400 (Thu, 14 Oct 2021) EndedAt: 2021-10-14 23:11:25 -0400 (Thu, 14 Oct 2021) EllapsedTime: 45.9 seconds RetCode: 0 Status: OK CheckDir: rhdf5.Rcheck Warnings: 0