Package: rhdf5 Version: 2.36.0 Command: /Library/Frameworks/R.framework/Versions/Current/Resources/bin/R CMD INSTALL rhdf5 StartedAt: 2021-10-14 08:23:33 -0400 (Thu, 14 Oct 2021) EndedAt: 2021-10-14 08:24:22 -0400 (Thu, 14 Oct 2021) EllapsedTime: 49.5 seconds RetCode: 0 Status: OK