Package: rhdf5 Version: 2.36.0 Command: chmod a+r rhdf5 -R && C:\Users\biocbuild\bbs-3.13-bioc\R\bin\R.exe CMD build --keep-empty-dirs --no-resave-data rhdf5 StartedAt: 2021-10-14 17:35:23 -0400 (Thu, 14 Oct 2021) EndedAt: 2021-10-14 17:44:39 -0400 (Thu, 14 Oct 2021) EllapsedTime: 555.6 seconds RetCode: 0 Status: OK PackageFile: rhdf5_2.36.0.tar.gz PackageFileSize: 1.026 MiB