Package: ribor Version: 1.4.0 Command: rm -rf ribor.buildbin-libdir && mkdir ribor.buildbin-libdir && C:\Users\biocbuild\bbs-3.13-bioc\R\bin\R.exe CMD INSTALL --merge-multiarch --build --library=ribor.buildbin-libdir ribor_1.4.0.tar.gz StartedAt: 2021-10-15 11:24:16 -0400 (Fri, 15 Oct 2021) EndedAt: 2021-10-15 11:24:44 -0400 (Fri, 15 Oct 2021) EllapsedTime: 28.0 seconds RetCode: 0 Status: OK PackageFile: ribor_1.4.0.zip PackageFileSize: 4.098 MiB