Package: rols Version: 2.20.1 Command: /home/biocbuild/bbs-3.13-bioc/R/bin/R CMD INSTALL rols StartedAt: 2021-10-14 06:06:13 -0400 (Thu, 14 Oct 2021) EndedAt: 2021-10-14 06:06:23 -0400 (Thu, 14 Oct 2021) EllapsedTime: 9.4 seconds RetCode: 0 Status: OK