Package: ropls Version: 1.24.0 Command: C:\Users\biocbuild\bbs-3.13-bioc\R\bin\R.exe CMD check --force-multiarch --install=check:ropls.install-out.txt --library=C:\Users\biocbuild\bbs-3.13-bioc\R\library --no-vignettes --timings ropls_1.24.0.tar.gz StartedAt: 2021-10-15 04:47:27 -0400 (Fri, 15 Oct 2021) EndedAt: 2021-10-15 04:49:12 -0400 (Fri, 15 Oct 2021) EllapsedTime: 104.9 seconds RetCode: 0 Status: OK CheckDir: ropls.Rcheck Warnings: 0