Package: rqt Version: 1.18.0 Command: /home/biocbuild/bbs-3.13-bioc/R/bin/R CMD build --keep-empty-dirs --no-resave-data rqt StartedAt: 2021-10-14 08:16:04 -0400 (Thu, 14 Oct 2021) EndedAt: 2021-10-14 08:16:32 -0400 (Thu, 14 Oct 2021) EllapsedTime: 28.3 seconds RetCode: 1 Status: ERROR PackageFile: None PackageFileSize: NA