Package: rqt Version: 1.18.0 Command: chmod a+r rqt -R && C:\Users\biocbuild\bbs-3.13-bioc\R\bin\R.exe CMD build --keep-empty-dirs --no-resave-data rqt StartedAt: 2021-10-14 17:47:06 -0400 (Thu, 14 Oct 2021) EndedAt: 2021-10-14 17:48:33 -0400 (Thu, 14 Oct 2021) EllapsedTime: 87.4 seconds RetCode: 1 Status: ERROR PackageFile: None PackageFileSize: NA