Package: rqubic Version: 1.38.0 Command: chmod a+r rqubic -R && C:\Users\biocbuild\bbs-3.13-bioc\R\bin\R.exe CMD build --keep-empty-dirs --no-resave-data rqubic StartedAt: 2021-10-14 17:47:14 -0400 (Thu, 14 Oct 2021) EndedAt: 2021-10-14 17:47:44 -0400 (Thu, 14 Oct 2021) EllapsedTime: 29.7 seconds RetCode: 0 Status: OK PackageFile: rqubic_1.38.0.tar.gz PackageFileSize: 239.2 KiB