Package: rqubic Version: 1.38.0 Command: C:\cygwin\bin\curl.exe -O http://155.52.207.165/BBS/3.13/bioc/src/contrib/rqubic_1.38.0.tar.gz && rm -rf rqubic.buildbin-libdir && mkdir rqubic.buildbin-libdir && C:\Users\biocbuild\bbs-3.13-bioc\R\bin\R.exe CMD INSTALL --merge-multiarch --build --library=rqubic.buildbin-libdir rqubic_1.38.0.tar.gz && C:\Users\biocbuild\bbs-3.13-bioc\R\bin\R.exe CMD INSTALL rqubic_1.38.0.zip && rm rqubic_1.38.0.tar.gz rqubic_1.38.0.zip StartedAt: 2021-10-14 09:48:48 -0400 (Thu, 14 Oct 2021) EndedAt: 2021-10-14 09:50:37 -0400 (Thu, 14 Oct 2021) EllapsedTime: 108.4 seconds RetCode: 0 Status: OK