Package: rrvgo Version: 1.4.4 Command: rm -rf rrvgo.buildbin-libdir && mkdir rrvgo.buildbin-libdir && /Users/biocbuild/BBS/utils/build-universal.sh rrvgo_1.4.4.tar.gz /Library/Frameworks/R.framework/Versions/Current/Resources/bin/R rrvgo.buildbin-libdir StartedAt: 2021-10-15 03:49:09 -0400 (Fri, 15 Oct 2021) EndedAt: 2021-10-15 03:50:07 -0400 (Fri, 15 Oct 2021) EllapsedTime: 58.4 seconds RetCode: 0 Status: OK PackageFile: rrvgo_1.4.4.tgz PackageFileSize: 1.237 MiB