Package: rrvgo Version: 1.4.4 Command: /Library/Frameworks/R.framework/Versions/Current/Resources/bin/R CMD check --install=check:rrvgo.install-out.txt --library=/Library/Frameworks/R.framework/Versions/Current/Resources/library --no-vignettes --timings rrvgo_1.4.4.tar.gz StartedAt: 2021-10-14 23:25:06 -0400 (Thu, 14 Oct 2021) EndedAt: 2021-10-14 23:42:27 -0400 (Thu, 14 Oct 2021) EllapsedTime: 1040.8 seconds RetCode: 0 Status: OK CheckDir: rrvgo.Rcheck Warnings: 0