Package: rrvgo Version: 1.4.4 Command: /Library/Frameworks/R.framework/Versions/Current/Resources/bin/R CMD INSTALL rrvgo StartedAt: 2021-10-14 08:58:46 -0400 (Thu, 14 Oct 2021) EndedAt: 2021-10-14 08:59:39 -0400 (Thu, 14 Oct 2021) EllapsedTime: 53.1 seconds RetCode: 0 Status: OK