Package: rrvgo Version: 1.4.4 Command: /home/biocbuild/bbs-3.13-bioc/R/bin/R CMD build --keep-empty-dirs --no-resave-data rrvgo StartedAt: 2021-10-14 08:16:14 -0400 (Thu, 14 Oct 2021) EndedAt: 2021-10-14 08:17:15 -0400 (Thu, 14 Oct 2021) EllapsedTime: 60.8 seconds RetCode: 0 Status: OK PackageFile: rrvgo_1.4.4.tar.gz PackageFileSize: 1.722 MiB