Package: rrvgo Version: 1.4.4 Command: /home/biocbuild/bbs-3.13-bioc/R/bin/R CMD check --install=check:rrvgo.install-out.txt --library=/home/biocbuild/bbs-3.13-bioc/R/library --no-vignettes --timings rrvgo_1.4.4.tar.gz StartedAt: 2021-10-14 11:25:28 -0400 (Thu, 14 Oct 2021) EndedAt: 2021-10-14 11:31:58 -0400 (Thu, 14 Oct 2021) EllapsedTime: 389.8 seconds RetCode: 0 Status: OK CheckDir: rrvgo.Rcheck Warnings: 0