Package: rrvgo Version: 1.4.4 Command: /home/biocbuild/bbs-3.13-bioc/R/bin/R CMD INSTALL rrvgo StartedAt: 2021-10-14 06:10:15 -0400 (Thu, 14 Oct 2021) EndedAt: 2021-10-14 06:10:28 -0400 (Thu, 14 Oct 2021) EllapsedTime: 13.2 seconds RetCode: 0 Status: OK