Package: rrvgo Version: 1.4.4 Command: rm -rf rrvgo.buildbin-libdir && mkdir rrvgo.buildbin-libdir && C:\Users\biocbuild\bbs-3.13-bioc\R\bin\R.exe CMD INSTALL --merge-multiarch --build --library=rrvgo.buildbin-libdir rrvgo_1.4.4.tar.gz StartedAt: 2021-10-15 11:30:48 -0400 (Fri, 15 Oct 2021) EndedAt: 2021-10-15 11:32:31 -0400 (Fri, 15 Oct 2021) EllapsedTime: 103.2 seconds RetCode: 0 Status: OK PackageFile: rrvgo_1.4.4.zip PackageFileSize: 1.056 MiB