Package: rrvgo Version: 1.4.4 Command: C:\cygwin\bin\curl.exe -O http://155.52.207.165/BBS/3.13/bioc/src/contrib/rrvgo_1.4.4.tar.gz && rm -rf rrvgo.buildbin-libdir && mkdir rrvgo.buildbin-libdir && C:\Users\biocbuild\bbs-3.13-bioc\R\bin\R.exe CMD INSTALL --merge-multiarch --build --library=rrvgo.buildbin-libdir rrvgo_1.4.4.tar.gz && C:\Users\biocbuild\bbs-3.13-bioc\R\bin\R.exe CMD INSTALL rrvgo_1.4.4.zip && rm rrvgo_1.4.4.tar.gz rrvgo_1.4.4.zip StartedAt: 2021-10-14 08:32:32 -0400 (Thu, 14 Oct 2021) EndedAt: 2021-10-14 08:33:51 -0400 (Thu, 14 Oct 2021) EllapsedTime: 79.4 seconds RetCode: 0 Status: OK