Package: rsbml Version: 2.50.0 Command: rm -rf rsbml.buildbin-libdir && mkdir rsbml.buildbin-libdir && C:\Users\biocbuild\bbs-3.13-bioc\R\bin\R.exe CMD INSTALL --merge-multiarch --build --library=rsbml.buildbin-libdir rsbml_2.50.0.tar.gz StartedAt: 2021-10-15 11:31:07 -0400 (Fri, 15 Oct 2021) EndedAt: 2021-10-15 11:32:39 -0400 (Fri, 15 Oct 2021) EllapsedTime: 92.3 seconds RetCode: 0 Status: OK PackageFile: rsbml_2.50.0.zip PackageFileSize: 10.03 MiB