Package: rsbml Version: 2.50.0 Command: chmod a+r rsbml -R && C:\Users\biocbuild\bbs-3.13-bioc\R\bin\R.exe CMD build --keep-empty-dirs --no-resave-data rsbml StartedAt: 2021-10-14 17:48:05 -0400 (Thu, 14 Oct 2021) EndedAt: 2021-10-14 17:48:59 -0400 (Thu, 14 Oct 2021) EllapsedTime: 53.9 seconds RetCode: 0 Status: OK PackageFile: rsbml_2.50.0.tar.gz PackageFileSize: 555.4 KiB