Package: rsbml Version: 2.50.0 Command: C:\Users\biocbuild\bbs-3.13-bioc\R\bin\R.exe CMD check --force-multiarch --install=check:rsbml.install-out.txt --library=C:\Users\biocbuild\bbs-3.13-bioc\R\library --no-vignettes --timings rsbml_2.50.0.tar.gz StartedAt: 2021-10-15 04:53:15 -0400 (Fri, 15 Oct 2021) EndedAt: 2021-10-15 04:56:58 -0400 (Fri, 15 Oct 2021) EllapsedTime: 222.5 seconds RetCode: 0 Status: WARNINGS CheckDir: rsbml.Rcheck Warnings: 1