Package: rsbml Version: 2.50.0 Command: C:\cygwin\bin\curl.exe -O http://155.52.207.165/BBS/3.13/bioc/src/contrib/rsbml_2.50.0.tar.gz && rm -rf rsbml.buildbin-libdir && mkdir rsbml.buildbin-libdir && C:\Users\biocbuild\bbs-3.13-bioc\R\bin\R.exe CMD INSTALL --merge-multiarch --build --library=rsbml.buildbin-libdir rsbml_2.50.0.tar.gz && C:\Users\biocbuild\bbs-3.13-bioc\R\bin\R.exe CMD INSTALL rsbml_2.50.0.zip && rm rsbml_2.50.0.tar.gz rsbml_2.50.0.zip StartedAt: 2021-10-14 07:39:32 -0400 (Thu, 14 Oct 2021) EndedAt: 2021-10-14 07:44:01 -0400 (Thu, 14 Oct 2021) EllapsedTime: 268.9 seconds RetCode: 0 Status: OK