Package: runibic Version: 1.14.0 Command: /home/biocbuild/bbs-3.13-bioc/R/bin/R CMD INSTALL runibic StartedAt: 2021-10-14 06:17:00 -0400 (Thu, 14 Oct 2021) EndedAt: 2021-10-14 06:17:36 -0400 (Thu, 14 Oct 2021) EllapsedTime: 35.6 seconds RetCode: 0 Status: OK