Package: sSeq Version: 1.30.0 Command: /home/biocbuild/bbs-3.13-bioc/R/bin/R CMD build --keep-empty-dirs --no-resave-data sSeq StartedAt: 2021-10-14 08:30:43 -0400 (Thu, 14 Oct 2021) EndedAt: 2021-10-14 08:31:50 -0400 (Thu, 14 Oct 2021) EllapsedTime: 66.9 seconds RetCode: 0 Status: OK PackageFile: sSeq_1.30.0.tar.gz PackageFileSize: 4.228 MiB