Package: sSeq Version: 1.30.0 Command: /home/biocbuild/bbs-3.13-bioc/R/bin/R CMD INSTALL sSeq StartedAt: 2021-10-14 06:02:07 -0400 (Thu, 14 Oct 2021) EndedAt: 2021-10-14 06:02:17 -0400 (Thu, 14 Oct 2021) EllapsedTime: 10.1 seconds RetCode: 0 Status: OK