Package: sampleClassifier Version: 1.16.0 Command: /home/biocbuild/bbs-3.13-bioc/R/bin/R CMD INSTALL sampleClassifier StartedAt: 2021-10-14 06:17:05 -0400 (Thu, 14 Oct 2021) EndedAt: 2021-10-14 06:17:19 -0400 (Thu, 14 Oct 2021) EllapsedTime: 14.6 seconds RetCode: 0 Status: OK