Package: sampleClassifier Version: 1.16.0 Command: C:\Users\biocbuild\bbs-3.13-bioc\R\bin\R.exe CMD check --force-multiarch --install=check:sampleClassifier.install-out.txt --library=C:\Users\biocbuild\bbs-3.13-bioc\R\library --no-vignettes --timings sampleClassifier_1.16.0.tar.gz StartedAt: 2021-10-15 05:01:16 -0400 (Fri, 15 Oct 2021) EndedAt: 2021-10-15 05:08:23 -0400 (Fri, 15 Oct 2021) EllapsedTime: 427.1 seconds RetCode: 0 Status: OK CheckDir: sampleClassifier.Rcheck Warnings: 0