Package: sangerseqR Version: 1.28.0 Command: rm -rf sangerseqR.buildbin-libdir && mkdir sangerseqR.buildbin-libdir && /Users/biocbuild/BBS/utils/build-universal.sh sangerseqR_1.28.0.tar.gz /Library/Frameworks/R.framework/Versions/Current/Resources/bin/R sangerseqR.buildbin-libdir StartedAt: 2021-10-15 03:52:02 -0400 (Fri, 15 Oct 2021) EndedAt: 2021-10-15 03:53:05 -0400 (Fri, 15 Oct 2021) EllapsedTime: 63.2 seconds RetCode: 0 Status: OK PackageFile: sangerseqR_1.28.0.tgz PackageFileSize: 1.875 MiB