Package: sangerseqR Version: 1.28.0 Command: /Library/Frameworks/R.framework/Versions/Current/Resources/bin/R CMD build --keep-empty-dirs --no-resave-data sangerseqR StartedAt: 2021-10-14 14:36:28 -0400 (Thu, 14 Oct 2021) EndedAt: 2021-10-14 14:37:13 -0400 (Thu, 14 Oct 2021) EllapsedTime: 44.4 seconds RetCode: 0 Status: OK PackageFile: sangerseqR_1.28.0.tar.gz PackageFileSize: 1.563 MiB